Package: tricycle Version: 1.15.0 Command: chmod a+r tricycle -R && E:\biocbuild\bbs-3.21-bioc\R\bin\R.exe CMD build --keep-empty-dirs --no-resave-data tricycle StartedAt: 2025-02-09 22:11:09 -0500 (Sun, 09 Feb 2025) EndedAt: 2025-02-09 22:12:31 -0500 (Sun, 09 Feb 2025) EllapsedTime: 82.2 seconds RetCode: 0 Status: OK PackageFile: tricycle_1.15.0.tar.gz PackageFileSize: 3.646 MiB