Package: tricycle Version: 1.15.0 Command: E:\biocbuild\bbs-3.21-bioc\R\bin\R.exe CMD check --no-multiarch --install=check:tricycle.install-out.txt --library=E:\biocbuild\bbs-3.21-bioc\R\library --no-vignettes --timings tricycle_1.15.0.tar.gz StartedAt: 2025-02-10 06:21:51 -0500 (Mon, 10 Feb 2025) EndedAt: 2025-02-10 06:26:49 -0500 (Mon, 10 Feb 2025) EllapsedTime: 297.2 seconds RetCode: 0 Status: OK CheckDir: tricycle.Rcheck Warnings: 0