Package: tricycle Version: 1.15.0 Command: E:\biocbuild\bbs-3.21-bioc\R\bin\R.exe CMD INSTALL tricycle StartedAt: 2025-02-09 16:32:27 -0500 (Sun, 09 Feb 2025) EndedAt: 2025-02-09 16:33:08 -0500 (Sun, 09 Feb 2025) EllapsedTime: 41.0 seconds RetCode: 0 Status: OK