Package: trigger Version: 1.53.0 Command: /Library/Frameworks/R.framework/Resources/bin/R CMD INSTALL trigger StartedAt: 2025-02-12 15:22:40 -0500 (Wed, 12 Feb 2025) EndedAt: 2025-02-12 15:22:41 -0500 (Wed, 12 Feb 2025) EllapsedTime: 1.2 seconds RetCode: 1 Status: ERROR