Package: trigger Version: 1.53.0 Command: /Library/Frameworks/R.framework/Resources/bin/R CMD INSTALL trigger StartedAt: 2025-02-09 15:35:36 -0500 (Sun, 09 Feb 2025) EndedAt: 2025-02-09 15:35:37 -0500 (Sun, 09 Feb 2025) EllapsedTime: 1.2 seconds RetCode: 1 Status: ERROR