Package: trigger Version: 1.53.0 Command: /home/biocbuild/bbs-3.21-bioc/R/bin/R CMD INSTALL trigger StartedAt: 2025-02-12 15:27:58 -0500 (Wed, 12 Feb 2025) EndedAt: 2025-02-12 15:27:59 -0500 (Wed, 12 Feb 2025) EllapsedTime: 1.0 seconds RetCode: 1 Status: ERROR