Package: trio Version: 3.45.2 Command: /Library/Frameworks/R.framework/Resources/bin/R CMD check --install=check:trio.install-out.txt --library=/Library/Frameworks/R.framework/Resources/library --no-vignettes --timings trio_3.45.2.tar.gz StartedAt: 2025-02-09 21:50:33 -0500 (Sun, 09 Feb 2025) EndedAt: 2025-02-09 21:51:23 -0500 (Sun, 09 Feb 2025) EllapsedTime: 50.6 seconds RetCode: 0 Status: OK CheckDir: trio.Rcheck Warnings: 0