Package: trio Version: 3.45.2 Command: /Library/Frameworks/R.framework/Resources/bin/R CMD INSTALL trio StartedAt: 2025-02-09 15:22:20 -0500 (Sun, 09 Feb 2025) EndedAt: 2025-02-09 15:22:29 -0500 (Sun, 09 Feb 2025) EllapsedTime: 8.2 seconds RetCode: 0 Status: OK