Package: trio Version: 3.45.2 Command: /home/biocbuild/R/R/bin/R CMD build --keep-empty-dirs --no-resave-data trio StartedAt: 2025-01-28 03:01:57 -0000 (Tue, 28 Jan 2025) EndedAt: 2025-01-28 03:03:08 -0000 (Tue, 28 Jan 2025) EllapsedTime: 71.0 seconds RetCode: 0 Status: OK PackageFile: trio_3.45.2.tar.gz PackageFileSize: 811.8 KiB