Package: trio Version: 3.45.2 Command: /home/biocbuild/R/R/bin/R CMD INSTALL trio StartedAt: 2025-01-29 20:22:02 -0000 (Wed, 29 Jan 2025) EndedAt: 2025-01-29 20:22:37 -0000 (Wed, 29 Jan 2025) EllapsedTime: 34.6 seconds RetCode: 0 Status: OK