Package: trio Version: 3.45.2 Command: rm -rf trio.buildbin-libdir && mkdir trio.buildbin-libdir && /Users/biocbuild/BBS/utils/build-universal.sh trio_3.45.2.tar.gz /Library/Frameworks/R.framework/Resources/bin/R trio.buildbin-libdir StartedAt: 2025-02-10 01:21:22 -0500 (Mon, 10 Feb 2025) EndedAt: 2025-02-10 01:22:00 -0500 (Mon, 10 Feb 2025) EllapsedTime: 38.5 seconds RetCode: 0 Status: OK PackageFile: trio_3.45.2.tgz PackageFileSize: 1.637 MiB