Package: trio Version: 3.45.2 Command: /Library/Frameworks/R.framework/Resources/bin/R CMD check --install=check:trio.install-out.txt --library=/Library/Frameworks/R.framework/Resources/library --no-vignettes --timings trio_3.45.2.tar.gz StartedAt: 2025-02-03 23:55:18 -0500 (Mon, 03 Feb 2025) EndedAt: 2025-02-03 23:58:17 -0500 (Mon, 03 Feb 2025) EllapsedTime: 179.6 seconds RetCode: 0 Status: OK CheckDir: trio.Rcheck Warnings: 0