Package: trio Version: 3.45.2 Command: /home/biocbuild/bbs-3.21-bioc/R/bin/R CMD build --keep-empty-dirs --no-resave-data trio StartedAt: 2025-02-04 19:37:34 -0500 (Tue, 04 Feb 2025) EndedAt: 2025-02-04 19:38:23 -0500 (Tue, 04 Feb 2025) EllapsedTime: 49.1 seconds RetCode: 0 Status: OK PackageFile: trio_3.45.2.tar.gz PackageFileSize: 753.1 KiB