Package: trio Version: 3.45.2 Command: /home/biocbuild/bbs-3.21-bioc/R/bin/R CMD check --install=check:trio.install-out.txt --library=/home/biocbuild/bbs-3.21-bioc/R/site-library --timings trio_3.45.2.tar.gz StartedAt: 2025-02-05 03:39:54 -0500 (Wed, 05 Feb 2025) EndedAt: 2025-02-05 03:42:30 -0500 (Wed, 05 Feb 2025) EllapsedTime: 156.2 seconds RetCode: 0 Status: OK CheckDir: trio.Rcheck Warnings: 0