Package: trio Version: 3.45.2 Command: E:\biocbuild\bbs-3.21-bioc\R\bin\R.exe CMD check --no-multiarch --install=check:trio.install-out.txt --library=E:\biocbuild\bbs-3.21-bioc\R\library --no-vignettes --timings trio_3.45.2.tar.gz StartedAt: 2025-02-10 06:22:10 -0500 (Mon, 10 Feb 2025) EndedAt: 2025-02-10 06:25:05 -0500 (Mon, 10 Feb 2025) EllapsedTime: 174.5 seconds RetCode: 0 Status: OK CheckDir: trio.Rcheck Warnings: 0