Package: trio Version: 3.45.2 Command: E:\biocbuild\bbs-3.21-bioc\R\bin\R.exe CMD INSTALL trio StartedAt: 2025-02-09 16:01:34 -0500 (Sun, 09 Feb 2025) EndedAt: 2025-02-09 16:02:28 -0500 (Sun, 09 Feb 2025) EllapsedTime: 53.9 seconds RetCode: 0 Status: OK