Package: triplex Version: 1.47.0 Command: rm -rf triplex.buildbin-libdir && mkdir triplex.buildbin-libdir && /Users/biocbuild/BBS/utils/build-universal.sh triplex_1.47.0.tar.gz /Library/Frameworks/R.framework/Resources/bin/R triplex.buildbin-libdir StartedAt: 2025-02-09 22:34:10 -0500 (Sun, 09 Feb 2025) EndedAt: 2025-02-09 22:34:18 -0500 (Sun, 09 Feb 2025) EllapsedTime: 8.2 seconds RetCode: 0 Status: OK PackageFile: triplex_1.47.0.tgz PackageFileSize: 931.9 KiB