Package: triplex Version: 1.47.0 Command: /Library/Frameworks/R.framework/Resources/bin/R CMD INSTALL triplex StartedAt: 2025-02-09 15:04:16 -0500 (Sun, 09 Feb 2025) EndedAt: 2025-02-09 15:04:22 -0500 (Sun, 09 Feb 2025) EllapsedTime: 6.5 seconds RetCode: 0 Status: OK