Package: triplex Version: 1.47.0 Command: rm -rf triplex.buildbin-libdir && mkdir triplex.buildbin-libdir && /Users/biocbuild/BBS/utils/build-universal.sh triplex_1.47.0.tar.gz /Library/Frameworks/R.framework/Resources/bin/R triplex.buildbin-libdir StartedAt: 2025-02-05 01:07:06 -0500 (Wed, 05 Feb 2025) EndedAt: 2025-02-05 01:07:33 -0500 (Wed, 05 Feb 2025) EllapsedTime: 26.7 seconds RetCode: 0 Status: OK PackageFile: triplex_1.47.0.tgz PackageFileSize: 931.2 KiB