Package: triplex Version: 1.47.0 Command: /Library/Frameworks/R.framework/Resources/bin/R CMD build --keep-empty-dirs --no-resave-data triplex StartedAt: 2025-02-09 18:46:40 -0500 (Sun, 09 Feb 2025) EndedAt: 2025-02-09 18:47:19 -0500 (Sun, 09 Feb 2025) EllapsedTime: 38.9 seconds RetCode: 0 Status: OK PackageFile: triplex_1.47.0.tar.gz PackageFileSize: 600 KiB