Package: triplex Version: 1.47.0 Command: /Library/Frameworks/R.framework/Resources/bin/R CMD check --install=check:triplex.install-out.txt --library=/Library/Frameworks/R.framework/Resources/library --no-vignettes --timings triplex_1.47.0.tar.gz StartedAt: 2025-02-10 00:13:45 -0500 (Mon, 10 Feb 2025) EndedAt: 2025-02-10 00:15:48 -0500 (Mon, 10 Feb 2025) EllapsedTime: 123.4 seconds RetCode: 0 Status: WARNINGS CheckDir: triplex.Rcheck Warnings: 2