Package: triplex Version: 1.47.0 Command: /Library/Frameworks/R.framework/Resources/bin/R CMD INSTALL triplex StartedAt: 2025-02-04 15:09:35 -0500 (Tue, 04 Feb 2025) EndedAt: 2025-02-04 15:10:00 -0500 (Tue, 04 Feb 2025) EllapsedTime: 24.3 seconds RetCode: 0 Status: OK