Package: triplex Version: 1.47.0 Command: /home/biocbuild/bbs-3.21-bioc/R/bin/R CMD INSTALL triplex StartedAt: 2025-02-09 15:35:53 -0500 (Sun, 09 Feb 2025) EndedAt: 2025-02-09 15:36:09 -0500 (Sun, 09 Feb 2025) EllapsedTime: 15.9 seconds RetCode: 0 Status: OK