Package: triplex Version: 1.47.0 Command: rm -rf triplex.buildbin-libdir && mkdir triplex.buildbin-libdir && E:\biocbuild\bbs-3.21-bioc\R\bin\R.exe CMD INSTALL --build --library=triplex.buildbin-libdir triplex_1.47.0.tar.gz StartedAt: 2025-02-10 08:54:44 -0500 (Mon, 10 Feb 2025) EndedAt: 2025-02-10 08:55:44 -0500 (Mon, 10 Feb 2025) EllapsedTime: 60.0 seconds RetCode: 0 Status: OK PackageFile: triplex_1.47.0.zip PackageFileSize: 812.8 KiB