Package: triplex Version: 1.47.0 Command: chmod a+r triplex -R && E:\biocbuild\bbs-3.21-bioc\R\bin\R.exe CMD build --keep-empty-dirs --no-resave-data triplex StartedAt: 2025-02-09 22:11:15 -0500 (Sun, 09 Feb 2025) EndedAt: 2025-02-09 22:12:14 -0500 (Sun, 09 Feb 2025) EllapsedTime: 59.8 seconds RetCode: 0 Status: OK PackageFile: triplex_1.47.0.tar.gz PackageFileSize: 482 KiB