Package: ttgsea Version: 1.15.0 Command: /Library/Frameworks/R.framework/Resources/bin/R CMD INSTALL ttgsea StartedAt: 2025-02-09 15:29:19 -0500 (Sun, 09 Feb 2025) EndedAt: 2025-02-09 15:29:23 -0500 (Sun, 09 Feb 2025) EllapsedTime: 4.1 seconds RetCode: 0 Status: OK