Package: ttgsea Version: 1.15.0 Command: /home/biocbuild/bbs-3.21-bioc/R/bin/R CMD build --keep-empty-dirs --no-resave-data ttgsea StartedAt: 2025-02-09 19:40:38 -0500 (Sun, 09 Feb 2025) EndedAt: 2025-02-09 19:41:08 -0500 (Sun, 09 Feb 2025) EllapsedTime: 30.1 seconds RetCode: 0 Status: OK PackageFile: ttgsea_1.15.0.tar.gz PackageFileSize: 331.4 KiB