Package: ttgsea Version: 1.15.0 Command: /home/biocbuild/bbs-3.21-bioc/R/bin/R CMD INSTALL ttgsea StartedAt: 2025-02-09 15:11:17 -0500 (Sun, 09 Feb 2025) EndedAt: 2025-02-09 15:11:28 -0500 (Sun, 09 Feb 2025) EllapsedTime: 11.5 seconds RetCode: 0 Status: OK