Package: tweeDEseq Version: 1.53.0 Command: /Library/Frameworks/R.framework/Resources/bin/R CMD build --keep-empty-dirs --no-resave-data tweeDEseq StartedAt: 2025-02-12 18:38:51 -0500 (Wed, 12 Feb 2025) EndedAt: 2025-02-12 18:47:18 -0500 (Wed, 12 Feb 2025) EllapsedTime: 507.3 seconds RetCode: 0 Status: OK PackageFile: tweeDEseq_1.53.0.tar.gz PackageFileSize: 234.4 KiB