Package: tweeDEseq Version: 1.53.0 Command: /Library/Frameworks/R.framework/Resources/bin/R CMD INSTALL tweeDEseq StartedAt: 2025-02-12 15:36:28 -0500 (Wed, 12 Feb 2025) EndedAt: 2025-02-12 15:36:40 -0500 (Wed, 12 Feb 2025) EllapsedTime: 12.8 seconds RetCode: 0 Status: OK