Package: tweeDEseq Version: 1.53.0 Command: E:\biocbuild\bbs-3.21-bioc\R\bin\R.exe CMD check --no-multiarch --install=check:tweeDEseq.install-out.txt --library=E:\biocbuild\bbs-3.21-bioc\R\library --no-vignettes --timings tweeDEseq_1.53.0.tar.gz StartedAt: 2025-02-10 06:25:43 -0500 (Mon, 10 Feb 2025) EndedAt: 2025-02-10 06:27:02 -0500 (Mon, 10 Feb 2025) EllapsedTime: 78.9 seconds RetCode: 0 Status: WARNINGS CheckDir: tweeDEseq.Rcheck Warnings: 1