Package: twilight Version: 1.83.6 Maintainer: Stefanie Senger MaintainerEmail: stefanie.scheid at gmx.de git_url: https://git.bioconductor.org/packages/twilight git_branch: devel git_last_commit: 729f95c git_last_commit_date: 2025-02-05 20:19:15 -0500 (Wed, 05 Feb 2025)