Package: twilight Version: 1.83.2 Command: /Library/Frameworks/R.framework/Resources/bin/R CMD check --install=check:twilight.install-out.txt --library=/Library/Frameworks/R.framework/Resources/library --no-vignettes --timings twilight_1.83.2.tar.gz StartedAt: 2025-01-29 21:48:09 -0500 (Wed, 29 Jan 2025) EndedAt: 2025-01-29 21:48:25 -0500 (Wed, 29 Jan 2025) EllapsedTime: 16.2 seconds RetCode: 0 Status: WARNINGS CheckDir: twilight.Rcheck Warnings: 1