Package: twilight Version: 1.83.7 Command: /Library/Frameworks/R.framework/Resources/bin/R CMD INSTALL twilight StartedAt: 2025-02-12 15:02:03 -0500 (Wed, 12 Feb 2025) EndedAt: 2025-02-12 15:02:08 -0500 (Wed, 12 Feb 2025) EllapsedTime: 4.7 seconds RetCode: 1 Status: ERROR