Package: twilight Version: 1.83.1 Command: /home/biocbuild/R/R/bin/R CMD build --keep-empty-dirs --no-resave-data twilight StartedAt: 2025-01-28 03:03:14 -0000 (Tue, 28 Jan 2025) EndedAt: 2025-01-28 03:03:15 -0000 (Tue, 28 Jan 2025) EllapsedTime: 1.0 seconds RetCode: 1 Status: ERROR PackageFile: None PackageFileSize: NA