Package: twilight Version: 1.83.2 Command: /home/biocbuild/R/R/bin/R CMD INSTALL twilight StartedAt: 2025-01-29 19:32:29 -0000 (Wed, 29 Jan 2025) EndedAt: 2025-01-29 19:32:52 -0000 (Wed, 29 Jan 2025) EllapsedTime: 22.4 seconds RetCode: 0 Status: OK