Package: twilight Version: 1.83.6 Command: /Library/Frameworks/R.framework/Resources/bin/R CMD build --keep-empty-dirs --no-resave-data twilight StartedAt: 2025-02-09 18:47:19 -0500 (Sun, 09 Feb 2025) EndedAt: 2025-02-09 18:47:23 -0500 (Sun, 09 Feb 2025) EllapsedTime: 4.6 seconds RetCode: 1 Status: ERROR PackageFile: None PackageFileSize: NA