Package: twilight Version: 1.83.6 Command: /Library/Frameworks/R.framework/Resources/bin/R CMD INSTALL twilight StartedAt: 2025-02-09 15:05:25 -0500 (Sun, 09 Feb 2025) EndedAt: 2025-02-09 15:05:54 -0500 (Sun, 09 Feb 2025) EllapsedTime: 29.3 seconds RetCode: 1 Status: ERROR