############################################################################## ############################################################################## ### ### Running command: ### ### /home/biocbuild/bbs-3.21-bioc/R/bin/R CMD build --keep-empty-dirs --no-resave-data twilight ### ############################################################################## ############################################################################## * checking for file ‘twilight/DESCRIPTION’ ... OK * preparing ‘twilight’: * checking DESCRIPTION meta-information ... OK * cleaning src * installing the package to build vignettes ----------------------------------- * installing *source* package ‘twilight’ ... ** this is package ‘twilight’ version ‘1.83.6’ ** using staged installation ** libs using C compiler: ‘gcc (Ubuntu 13.3.0-6ubuntu2~24.04) 13.3.0’ gcc -I"/home/biocbuild/bbs-3.21-bioc/R/include" -DNDEBUG -I/usr/local/include -fpic -g -O2 -c confidence.line.c -o confidence.line.o gcc -I"/home/biocbuild/bbs-3.21-bioc/R/include" -DNDEBUG -I/usr/local/include -fpic -g -O2 -c correlation.c -o correlation.o gcc -I"/home/biocbuild/bbs-3.21-bioc/R/include" -DNDEBUG -I/usr/local/include -fpic -g -O2 -c kstest.c -o kstest.o gcc -I"/home/biocbuild/bbs-3.21-bioc/R/include" -DNDEBUG -I/usr/local/include -fpic -g -O2 -c sep.c -o sep.o gcc -I"/home/biocbuild/bbs-3.21-bioc/R/include" -DNDEBUG -I/usr/local/include -fpic -g -O2 -c twosample.perm.c -o twosample.perm.o gcc -I"/home/biocbuild/bbs-3.21-bioc/R/include" -DNDEBUG -I/usr/local/include -fpic -g -O2 -c twosample.single.c -o twosample.single.o gcc -shared -L/home/biocbuild/bbs-3.21-bioc/R/lib -L/usr/local/lib -o twilight.so confidence.line.o correlation.o kstest.o sep.o twosample.perm.o twosample.single.o -L/home/biocbuild/bbs-3.21-bioc/R/lib -lR installing to /tmp/Rtmp36lygP/Rinst8cb6529243248/00LOCK-twilight/00new/twilight/libs ** R ** data ** inst ** byte-compile and prepare package for lazy loading Error: object ‘predict’ is not exported by 'namespace:splines' Execution halted ERROR: lazy loading failed for package ‘twilight’ * removing ‘/tmp/Rtmp36lygP/Rinst8cb6529243248/twilight’ ----------------------------------- ERROR: package installation failed