Package: twilight Version: 1.83.7 Command: /home/biocbuild/bbs-3.21-bioc/R/bin/R CMD build --keep-empty-dirs --no-resave-data twilight StartedAt: 2025-02-12 19:36:36 -0500 (Wed, 12 Feb 2025) EndedAt: 2025-02-12 19:36:39 -0500 (Wed, 12 Feb 2025) EllapsedTime: 3.0 seconds RetCode: 1 Status: ERROR PackageFile: None PackageFileSize: NA