Package: twilight Version: 1.83.6 Command: /home/biocbuild/bbs-3.21-bioc/R/bin/R CMD INSTALL twilight StartedAt: 2025-02-09 15:12:35 -0500 (Sun, 09 Feb 2025) EndedAt: 2025-02-09 15:12:38 -0500 (Sun, 09 Feb 2025) EllapsedTime: 3.4 seconds RetCode: 1 Status: ERROR