############################################################################## ############################################################################## ### ### Running command: ### ### chmod a+r twilight -R && E:\biocbuild\bbs-3.21-bioc\R\bin\R.exe CMD build --keep-empty-dirs --no-resave-data twilight ### ############################################################################## ############################################################################## * checking for file 'twilight/DESCRIPTION' ... OK * preparing 'twilight': * checking DESCRIPTION meta-information ... OK * cleaning src * installing the package to build vignettes ----------------------------------- * installing *source* package 'twilight' ... ** this is package 'twilight' version '1.83.6' ** using staged installation ** libs using C compiler: 'gcc.exe (GCC) 13.3.0' gcc -I"E:/biocbuild/bbs-3.21-bioc/R/include" -DNDEBUG -I"C:/rtools44/x86_64-w64-mingw32.static.posix/include" -O2 -Wall -mfpmath=sse -msse2 -mstackrealign -c confidence.line.c -o confidence.line.o gcc -I"E:/biocbuild/bbs-3.21-bioc/R/include" -DNDEBUG -I"C:/rtools44/x86_64-w64-mingw32.static.posix/include" -O2 -Wall -mfpmath=sse -msse2 -mstackrealign -c correlation.c -o correlation.o gcc -I"E:/biocbuild/bbs-3.21-bioc/R/include" -DNDEBUG -I"C:/rtools44/x86_64-w64-mingw32.static.posix/include" -O2 -Wall -mfpmath=sse -msse2 -mstackrealign -c kstest.c -o kstest.o gcc -I"E:/biocbuild/bbs-3.21-bioc/R/include" -DNDEBUG -I"C:/rtools44/x86_64-w64-mingw32.static.posix/include" -O2 -Wall -mfpmath=sse -msse2 -mstackrealign -c sep.c -o sep.o gcc -I"E:/biocbuild/bbs-3.21-bioc/R/include" -DNDEBUG -I"C:/rtools44/x86_64-w64-mingw32.static.posix/include" -O2 -Wall -mfpmath=sse -msse2 -mstackrealign -c twosample.perm.c -o twosample.perm.o gcc -I"E:/biocbuild/bbs-3.21-bioc/R/include" -DNDEBUG -I"C:/rtools44/x86_64-w64-mingw32.static.posix/include" -O2 -Wall -mfpmath=sse -msse2 -mstackrealign -c twosample.single.c -o twosample.single.o gcc -shared -s -static-libgcc -o twilight.dll tmp.def confidence.line.o correlation.o kstest.o sep.o twosample.perm.o twosample.single.o -LC:/rtools44/x86_64-w64-mingw32.static.posix/lib/x64 -LC:/rtools44/x86_64-w64-mingw32.static.posix/lib -LE:/biocbuild/bbs-3.21-bioc/R/bin/x64 -lR installing to E:/biocbuild/bbs-3.21-bioc/tmpdir/RtmpCumPV5/Rinst1ebac6ea942cf/00LOCK-twilight/00new/twilight/libs/x64 ** R ** data ** inst ** byte-compile and prepare package for lazy loading Error: object 'predict' is not exported by 'namespace:splines' Execution halted ERROR: lazy loading failed for package 'twilight' * removing 'E:/biocbuild/bbs-3.21-bioc/tmpdir/RtmpCumPV5/Rinst1ebac6ea942cf/twilight' ----------------------------------- ERROR: package installation failed