Package: twilight Version: 1.83.7 Command: chmod a+r twilight -R && E:\biocbuild\bbs-3.21-bioc\R\bin\R.exe CMD build --keep-empty-dirs --no-resave-data twilight StartedAt: 2025-02-12 22:20:00 -0500 (Wed, 12 Feb 2025) EndedAt: 2025-02-12 22:20:10 -0500 (Wed, 12 Feb 2025) EllapsedTime: 9.1 seconds RetCode: 1 Status: ERROR PackageFile: None PackageFileSize: NA