Package: twilight Version: 1.83.0 Command: E:\biocbuild\bbs-3.21-bioc\R\bin\R.exe CMD check --no-multiarch --install=check:twilight.install-out.txt --library=E:\biocbuild\bbs-3.21-bioc\R\library --no-vignettes --timings twilight_1.83.0.tar.gz StartedAt: 2025-01-22 06:27:55 -0500 (Wed, 22 Jan 2025) EndedAt: 2025-01-22 06:28:39 -0500 (Wed, 22 Jan 2025) EllapsedTime: 43.8 seconds RetCode: 0 Status: OK CheckDir: twilight.Rcheck Warnings: 0