Package: twoddpcr Version: 1.31.0 Command: rm -rf twoddpcr.buildbin-libdir && mkdir twoddpcr.buildbin-libdir && /Users/biocbuild/BBS/utils/build-universal.sh twoddpcr_1.31.0.tar.gz /Library/Frameworks/R.framework/Resources/bin/R twoddpcr.buildbin-libdir StartedAt: 2025-02-12 22:39:25 -0500 (Wed, 12 Feb 2025) EndedAt: 2025-02-12 22:39:30 -0500 (Wed, 12 Feb 2025) EllapsedTime: 5.2 seconds RetCode: 0 Status: OK PackageFile: twoddpcr_1.31.0.tgz PackageFileSize: 5.071 MiB