Package: twoddpcr Version: 1.31.0 Command: /Library/Frameworks/R.framework/Resources/bin/R CMD INSTALL twoddpcr StartedAt: 2025-02-09 15:18:23 -0500 (Sun, 09 Feb 2025) EndedAt: 2025-02-09 15:18:27 -0500 (Sun, 09 Feb 2025) EllapsedTime: 4.4 seconds RetCode: 0 Status: OK