Package: twoddpcr Version: 1.31.0 Command: /home/biocbuild/R/R/bin/R CMD build --keep-empty-dirs --no-resave-data twoddpcr StartedAt: 2025-01-28 03:03:15 -0000 (Tue, 28 Jan 2025) EndedAt: 2025-01-28 03:06:41 -0000 (Tue, 28 Jan 2025) EllapsedTime: 206.1 seconds RetCode: 0 Status: OK PackageFile: twoddpcr_1.31.0.tar.gz PackageFileSize: 2.164 MiB