Package: twoddpcr Version: 1.31.0 Command: /home/biocbuild/R/R/bin/R CMD INSTALL twoddpcr StartedAt: 2025-01-29 20:13:18 -0000 (Wed, 29 Jan 2025) EndedAt: 2025-01-29 20:13:32 -0000 (Wed, 29 Jan 2025) EllapsedTime: 14.5 seconds RetCode: 0 Status: OK