Package: twoddpcr Version: 1.31.0 Command: /Library/Frameworks/R.framework/Resources/bin/R CMD build --keep-empty-dirs --no-resave-data twoddpcr StartedAt: 2025-02-12 18:38:56 -0500 (Wed, 12 Feb 2025) EndedAt: 2025-02-12 18:41:31 -0500 (Wed, 12 Feb 2025) EllapsedTime: 154.5 seconds RetCode: 0 Status: OK PackageFile: twoddpcr_1.31.0.tar.gz PackageFileSize: 3.968 MiB