Package: twoddpcr Version: 1.31.0 Command: /Library/Frameworks/R.framework/Resources/bin/R CMD check --install=check:twoddpcr.install-out.txt --library=/Library/Frameworks/R.framework/Resources/library --no-vignettes --timings twoddpcr_1.31.0.tar.gz StartedAt: 2025-02-10 00:16:28 -0500 (Mon, 10 Feb 2025) EndedAt: 2025-02-10 00:18:43 -0500 (Mon, 10 Feb 2025) EllapsedTime: 134.3 seconds RetCode: 0 Status: OK CheckDir: twoddpcr.Rcheck Warnings: 0